BEGIN:VCALENDAR
VERSION:2.0
PRODID:-//https://www.northkent.ac.uk///NONSGML kigkonsult.se iCalcreator 2.10.15//
METHOD:PUBLISH
BEGIN:VEVENT
UID:20260419T120410UTC-5246T6Wa24@https://www.northkent.ac.uk/
DTSTAMP:20260419T120410Z
DESCRIPTION:Pre-registration for this event has now closed.\nOur open event
 s are a wonderful opportunity to explore our programmes\, apprenticeships 
 and professional courses. \nTake a look at our industry-standard facilitie
 s and speak to tutors and careers advisers who will advise and guide you a
 nd teach and support you during your time with us here at the College. If 
 you have any questions about our event please email the Events Team. \nYou
  will be able to drop in and speak with our careers advisors and student s
 upport teams during your visit on campus - just let the team know when you
  check-in and they can provide you with further information on where you n
 eed to go.&nbsp\;\nCOVID-19 UPDATE: Unless exempt\, face coverings should 
 be worn in all indoor communal areas of the College and in classrooms and 
 workshops. This includes corridors\, toilets and cafes/refectories/restaur
 ants and our library areas. They are also required on College-provided tra
 nsport\, such as minibuses or shuttle buses.\nPlease note pre-registration
  will&nbsp\;close at 12pm&nbsp\;the day of the event.&nbsp\;\n&nbsp\;\n&nb
 sp\;\n&nbsp\; https://www.northkent.ac.uk/news-events/events/event/20-marc
 h-open-event-2022-tonbridge-campus
DTSTART:20220301T153000Z
DTEND:20220301T190000Z
LOCATION:Tonbridge Campus (Brook St\, Tonbridge TN9 2PW)
SUMMARY:March Open Event 2022 - Tonbridge Campus 
URL:https://www.northkent.ac.uk/news-events/events/event/20-march-open-even
 t-2022-tonbridge-campus
END:VEVENT
END:VCALENDAR
