BEGIN:VCALENDAR
VERSION:2.0
PRODID:-//https://www.northkent.ac.uk///NONSGML kigkonsult.se iCalcreator 2.10.15//
METHOD:PUBLISH
BEGIN:VEVENT
UID:20260420T141942UTC-7152JcVvL8@https://www.northkent.ac.uk/
DTSTAMP:20260420T141942Z
DESCRIPTION:We will be exhibiting at Bluewater Shopping Centre for two days
  in the February Half Term! Find us next to HMV in their community exhibit
 ion space.\nFind out about our current Courses\, Apprenticeships and T-Lev
 els for all three of our campuses - Dartford\, Gravesend and Tonbridge.\nW
 e will be able to answer your questions about our Further Education offer 
 and more! https://www.northkent.ac.uk/news-events/external-event/event/72-
 bluewater-shopping-centre-community-stand
DTSTART:20240410T083000Z
DTEND:20240410T160000Z
LOCATION:Bluewater Shopping Centre (Bluewater Pkwy\, Dartford\, Greenhithe 
 DA9 9ST\, UK)
SUMMARY:Bluewater Shopping Centre Community Stand
URL:https://www.northkent.ac.uk/news-events/external-event/event/72-bluewat
 er-shopping-centre-community-stand
END:VEVENT
END:VCALENDAR
